BEGIN:VCALENDAR
VERSION:2.0
PRODID:-//Ville East Angus - ECPv6.7.0//NONSGML v1.0//EN
CALSCALE:GREGORIAN
METHOD:PUBLISH
X-ORIGINAL-URL:https://stage.eastangus.ca
X-WR-CALDESC:Événements pour Ville East Angus
REFRESH-INTERVAL;VALUE=DURATION:PT1H
X-Robots-Tag:noindex
X-PUBLISHED-TTL:PT1H
BEGIN:VTIMEZONE
TZID:America/Toronto
BEGIN:DAYLIGHT
TZOFFSETFROM:-0500
TZOFFSETTO:-0400
TZNAME:EDT
DTSTART:20200308T070000
END:DAYLIGHT
BEGIN:STANDARD
TZOFFSETFROM:-0400
TZOFFSETTO:-0500
TZNAME:EST
DTSTART:20201101T060000
END:STANDARD
BEGIN:DAYLIGHT
TZOFFSETFROM:-0500
TZOFFSETTO:-0400
TZNAME:EDT
DTSTART:20210314T070000
END:DAYLIGHT
BEGIN:STANDARD
TZOFFSETFROM:-0400
TZOFFSETTO:-0500
TZNAME:EST
DTSTART:20211107T060000
END:STANDARD
BEGIN:DAYLIGHT
TZOFFSETFROM:-0500
TZOFFSETTO:-0400
TZNAME:EDT
DTSTART:20220313T070000
END:DAYLIGHT
BEGIN:STANDARD
TZOFFSETFROM:-0400
TZOFFSETTO:-0500
TZNAME:EST
DTSTART:20221106T060000
END:STANDARD
END:VTIMEZONE
BEGIN:VEVENT
DTSTART;TZID=America/Toronto:20220226T090000
DTEND;TZID=America/Toronto:20220226T160000
DTSTAMP:20260424T002826
CREATED:20211128T155134Z
LAST-MODIFIED:20220212T135729Z
UID:30532-1645866000-1645891200@stage.eastangus.ca
SUMMARY:Inscription – Soccer (Dribbleurs du Haut-Saint-François) - 26-27 février de 9 h à 16 h à l'Hôtel de ville de East Angus
DESCRIPTION:26-27 février\nInscription – Soccer (Dribbleurs du Haut-Saint-François)\nSamedi 26 février de 9 h à 16 h\nDimanche 27 février de 9 h à 16 h\nHôtel de ville
URL:https://stage.eastangus.ca/evenement/inscription-soccer-dribbleurs-du-haut-saint-francois/2022-02-26/
LOCATION:Hôtel de ville de East Angus\, 200\, rue Saint-Jean Est\, East Angus\, Québec\, J0B 1R0\, Canada
CATEGORIES:Sports
ATTACH;FMTTYPE=image/jpeg:https://stage.eastangus.ca/wp-content/uploads/2021/11/Inscriptions-Ete-2022.jpg
ORGANIZER;CN="Club de soccer Les Dribbleurs du Haut-Saint-Fran%C3%A7ois":MAILTO:info@dribbleursduhautstfrancois.com
END:VEVENT
BEGIN:VEVENT
DTSTART;TZID=America/Toronto:20220131T080000
DTEND;TZID=America/Toronto:20220131T160000
DTSTAMP:20260424T002826
CREATED:20211128T154231Z
LAST-MODIFIED:20220208T224348Z
UID:30510-1643616000-1643644800@stage.eastangus.ca
SUMMARY:Période d'inscription à la semaine de relâche en folie en cours jusqu'au 23 février 2022
DESCRIPTION:Période d’inscription à la semaine de relâche en folie en cours jusqu’au 23 février 2022\nInscription – Semaine de relâche en folie : Cliquez ici
URL:https://stage.eastangus.ca/evenement/periode-dinscription-a-la-semaine-de-relache-en-folie-en-cours-jusquau-18-fevrier-2022/2022-01-31/
LOCATION:Hôtel de ville de East Angus\, 200\, rue Saint-Jean Est\, East Angus\, Québec\, J0B 1R0\, Canada
CATEGORIES:Camp de jour
ATTACH;FMTTYPE=image/jpeg:https://stage.eastangus.ca/wp-content/uploads/2020/12/Relache-en-folie-Les-Virevents-couleur-Converti.jpg
ORGANIZER;CN="Ville de East Angus":MAILTO:info@eastangus.ca
END:VEVENT
BEGIN:VEVENT
DTSTART;TZID=America/Toronto:20211223T080000
DTEND;TZID=America/Toronto:20211223T120000
DTSTAMP:20260424T002826
CREATED:20201205T125620Z
LAST-MODIFIED:20211220T114348Z
UID:23963-1640246400-1640260800@stage.eastangus.ca
SUMMARY:Fermeture des bureaux municipaux - Période des fêtes
DESCRIPTION:Fermeture des bureaux municipaux – Période des fêtes\nDu 23 décembre 2021 à 12 h au 4 janvier 2022 inclusivement
URL:https://stage.eastangus.ca/evenement/fermeture-des-bureaux-municipaux-periode-des-fetes/
LOCATION:Hôtel de ville de East Angus\, 200\, rue Saint-Jean Est\, East Angus\, Québec\, J0B 1R0\, Canada
CATEGORIES:Ville
ATTACH;FMTTYPE=image/jpeg:https://stage.eastangus.ca/wp-content/uploads/2020/03/east-angus-noel.jpg
ORGANIZER;CN="Ville de East Angus":MAILTO:info@eastangus.ca
END:VEVENT
BEGIN:VEVENT
DTSTART;TZID=America/Toronto:20211220T183000
DTEND;TZID=America/Toronto:20211220T190000
DTSTAMP:20260424T002826
CREATED:20211116T113202Z
LAST-MODIFIED:20211217T231644Z
UID:30368-1640025000-1640026800@stage.eastangus.ca
SUMMARY:Séance du budget 2022 - Lundi 20 décembre à 18 h 30
DESCRIPTION:Les conseillers municipaux siégeant actuellement au conseil veilleront à défendre les intérêts de leurs électeurs jusqu’en 2025. Ils ont à cœur de faire de East Angus une ville agréable et prennent ainsi part aux activités de différents comités. Les élections municipales auront lieu le dimanche 2 novembre 2025.
URL:https://stage.eastangus.ca/evenement/seance-du-budget-2022-date-a-determiner/
LOCATION:Hôtel de ville de East Angus\, 200\, rue Saint-Jean Est\, East Angus\, Québec\, J0B 1R0\, Canada
CATEGORIES:Conseil municipal
ATTACH;FMTTYPE=image/jpeg:https://stage.eastangus.ca/wp-content/uploads/2020/10/Hotel-Ville-EastAngus.jpg
ORGANIZER;CN="Ville de East Angus":MAILTO:info@eastangus.ca
END:VEVENT
BEGIN:VEVENT
DTSTART;TZID=America/Toronto:20210927T080000
DTEND;TZID=America/Toronto:20210927T160000
DTSTAMP:20260424T002826
CREATED:20201205T121717Z
LAST-MODIFIED:20210927T170831Z
UID:23927-1632729600-1632758400@stage.eastangus.ca
SUMMARY:Sacs disponibles pour collecte des feuilles
DESCRIPTION:Sacs disponibles pour collecte des feuilles jusqu’à épuisement des stocks.\n10 par adresse maximum\nDisponible à l’Hôtel de ville seulement (200\, rue Saint-Jean Est)\nSoirée de distribution de 16 h à 19 h : 4 octobre 2021
URL:https://stage.eastangus.ca/evenement/sacs-disponibles-pour-collecte-des-feuilles/2021-09-27/
LOCATION:Hôtel de ville de East Angus\, 200\, rue Saint-Jean Est\, East Angus\, Québec\, J0B 1R0\, Canada
CATEGORIES:Collectes spéciales
ATTACH;FMTTYPE=image/jpeg:https://stage.eastangus.ca/wp-content/uploads/2021/09/Sacs-a-feuilles-mortes.jpg
ORGANIZER;CN="Ville de East Angus":MAILTO:info@eastangus.ca
END:VEVENT
BEGIN:VEVENT
DTSTART;TZID=America/Toronto:20210726T080000
DTEND;TZID=America/Toronto:20210726T160000
DTSTAMP:20260424T002826
CREATED:20201205T120202Z
LAST-MODIFIED:20201206T110633Z
UID:23915-1627286400-1627315200@stage.eastangus.ca
SUMMARY:Fermeture de l'Hôtel de ville - Vacances estivales
DESCRIPTION:26 au 30 juillet\nFermeture de l’Hôtel de ville
URL:https://stage.eastangus.ca/evenement/fermeture-de-lhotel-de-ville-vacances-estivales/2021-07-26/
LOCATION:Hôtel de ville de East Angus\, 200\, rue Saint-Jean Est\, East Angus\, Québec\, J0B 1R0\, Canada
CATEGORIES:Ville
ORGANIZER;CN="Ville de East Angus":MAILTO:info@eastangus.ca
END:VEVENT
BEGIN:VEVENT
DTSTART;TZID=America/Toronto:20210419T080000
DTEND;TZID=America/Toronto:20210604T160000
DTSTAMP:20260424T002826
CREATED:20201205T110807Z
LAST-MODIFIED:20201205T110807Z
UID:23808-1618819200-1622822400@stage.eastangus.ca
SUMMARY:Inscription au service d'animation et cours de natation
DESCRIPTION:19 avril au 4 juin\nInscription\nService d’Animation Estival et cours de natation\nDate limite pour s’inscrire : 4 juin\n(par internet ou à l’Hôtel de ville de 8 h à 16 h)
URL:https://stage.eastangus.ca/evenement/inscription-au-service-danimation-et-cours-de-natation/
LOCATION:Hôtel de ville de East Angus\, 200\, rue Saint-Jean Est\, East Angus\, Québec\, J0B 1R0\, Canada
CATEGORIES:Camp de jour
ATTACH;FMTTYPE=image/jpeg:https://stage.eastangus.ca/wp-content/uploads/2020/12/SAE-Les-Virevents.jpg
ORGANIZER;CN="Ville de East Angus":MAILTO:info@eastangus.ca
END:VEVENT
BEGIN:VEVENT
DTSTART;TZID=America/Toronto:20210327T100000
DTEND;TZID=America/Toronto:20210327T160000
DTSTAMP:20260424T002826
CREATED:20210315T124805Z
LAST-MODIFIED:20210315T124805Z
UID:26272-1616839200-1616860800@stage.eastangus.ca
SUMMARY:Inscription au soccer - Saison 2021 - Dribbleurs du Haut-Saint-François
DESCRIPTION:La saison de soccer arrive à grand pas! Les Dribbleurs du Haut St-François compte tout près de 500 joueurs et joueuses qui utilisent les terrains du Haut-Saint-François chaque année.\nPlus d’informations : https://www.dribbleursduhautstfrancois.com/inscriptions-2021
URL:https://stage.eastangus.ca/evenement/inscription-au-soccer-saison-2021-dribbleurs-du-haut-saint-francois/2021-03-27/
LOCATION:Hôtel de ville de East Angus\, 200\, rue Saint-Jean Est\, East Angus\, Québec\, J0B 1R0\, Canada
CATEGORIES:Sports
ATTACH;FMTTYPE=image/jpeg:https://stage.eastangus.ca/wp-content/uploads/2021/02/Logo-Dribbleurs-du-HSF.jpg
ORGANIZER;CN="Club de soccer Les Dribbleurs du Haut-Saint-Fran%C3%A7ois":MAILTO:info@dribbleursduhautstfrancois.com
END:VEVENT
BEGIN:VEVENT
DTSTART;TZID=America/Toronto:20210301T080000
DTEND;TZID=America/Toronto:20210301T160000
DTSTAMP:20260424T002826
CREATED:20201205T112733Z
LAST-MODIFIED:20201205T122915Z
UID:23819-1614585600-1614614400@stage.eastangus.ca
SUMMARY:Paiement des taxes municipales
DESCRIPTION:
URL:https://stage.eastangus.ca/evenement/paiement-des-taxes-municipales/2021-03-01/
LOCATION:Hôtel de ville de East Angus\, 200\, rue Saint-Jean Est\, East Angus\, Québec\, J0B 1R0\, Canada
CATEGORIES:Taxes
ORGANIZER;CN="Ville de East Angus":MAILTO:info@eastangus.ca
END:VEVENT
BEGIN:VEVENT
DTSTART;TZID=America/Toronto:20210205T180000
DTEND;TZID=America/Toronto:20210205T210000
DTSTAMP:20260424T002826
CREATED:20201203T135337Z
LAST-MODIFIED:20201204T181009Z
UID:23619-1612548000-1612558800@stage.eastangus.ca
SUMMARY:Inscriptions - Club de soccer Les Dribbleurs du Haut-Saint-François
DESCRIPTION:Vendredi 5 février de 18 h à 21 h\nSamedi 6 février de 10 h à 16 h\nDimanche 7 février de 10 h à 16 h\nHôtel de ville – 200\, rue Saint-Jean Est\, East Angus\, QC  J0B 1R0
URL:https://stage.eastangus.ca/evenement/inscriptions-club-de-soccer-les-dribbleurs-du-haut-saint-francois/2021-02-05/
LOCATION:Hôtel de ville de East Angus\, 200\, rue Saint-Jean Est\, East Angus\, Québec\, J0B 1R0\, Canada
CATEGORIES:Sports
ATTACH;FMTTYPE=image/jpeg:https://stage.eastangus.ca/wp-content/uploads/2020/12/Logo-Dribbleurs-HSF.jpg
ORGANIZER;CN="Club de soccer Les Dribbleurs du Haut-Saint-Fran%C3%A7ois":MAILTO:info@dribbleursduhautstfrancois.com
END:VEVENT
BEGIN:VEVENT
DTSTART;TZID=America/Toronto:20210201T080000
DTEND;TZID=America/Toronto:20210215T235900
DTSTAMP:20260424T002826
CREATED:20201205T105930Z
LAST-MODIFIED:20210211T102857Z
UID:23802-1612166400-1613433540@stage.eastangus.ca
SUMMARY:ANNULÉE - Inscription à la Semaine de relâche en folie
DESCRIPTION:IMPORTANT : En 2021\, l’organisation des relâches scolaires\, offerte par les milieux associatifs et municipaux\, ne sera pas autorisée\nÀ compter du 1er février\nInscription – Semaine de relâche en folie\nDate limite pour s’inscrire : 15 février
URL:https://stage.eastangus.ca/evenement/inscription-a-la-semaine-de-relache-en-folie/
LOCATION:Hôtel de ville de East Angus\, 200\, rue Saint-Jean Est\, East Angus\, Québec\, J0B 1R0\, Canada
CATEGORIES:Camp de jour
ATTACH;FMTTYPE=image/jpeg:https://stage.eastangus.ca/wp-content/uploads/2020/12/Relache-en-folie-Les-Virevents-couleur-Converti.jpg
ORGANIZER;CN="Ville de East Angus":MAILTO:info@eastangus.ca
END:VEVENT
BEGIN:VEVENT
DTSTART;TZID=America/Toronto:20201223T080000
DTEND;TZID=America/Toronto:20201223T110000
DTSTAMP:20260424T002826
CREATED:20201205T125843Z
LAST-MODIFIED:20201205T125843Z
UID:23965-1608710400-1608721200@stage.eastangus.ca
SUMMARY:Fermeture des bureaux municipaux - Période des fêtes
DESCRIPTION:Fermeture des bureaux municipaux – Période des fêtes\nDu 23 décembre 2020 à 11 h au 4 janvier 2021 inclusivement
URL:https://stage.eastangus.ca/evenement/fermeture-des-bureaux-municipaux-periode-des-fetes-2/
LOCATION:Hôtel de ville de East Angus\, 200\, rue Saint-Jean Est\, East Angus\, Québec\, J0B 1R0\, Canada
CATEGORIES:Ville
ATTACH;FMTTYPE=image/jpeg:https://stage.eastangus.ca/wp-content/uploads/2020/03/east-angus-noel.jpg
ORGANIZER;CN="Ville de East Angus":MAILTO:info@eastangus.ca
END:VEVENT
BEGIN:VEVENT
DTSTART;TZID=America/Toronto:20201221T183000
DTEND;TZID=America/Toronto:20201221T193000
DTSTAMP:20260424T002826
CREATED:20201209T013513Z
LAST-MODIFIED:20201209T013616Z
UID:24233-1608575400-1608579000@stage.eastangus.ca
SUMMARY:Séance de présentation du budget 2021 - Non ouverte au public présentement
DESCRIPTION:
URL:https://stage.eastangus.ca/evenement/seance-de-presentation-du-budget-2021-non-ouverte-au-public-presentement/
LOCATION:Hôtel de ville de East Angus\, 200\, rue Saint-Jean Est\, East Angus\, Québec\, J0B 1R0\, Canada
CATEGORIES:Conseil municipal
ORGANIZER;CN="Ville de East Angus":MAILTO:info@eastangus.ca
END:VEVENT
BEGIN:VEVENT
DTSTART;TZID=America/Toronto:20200914T190000
DTEND;TZID=America/Toronto:20200914T200000
DTSTAMP:20260424T002826
CREATED:20200814T184614Z
LAST-MODIFIED:20220212T114526Z
UID:18054-1600110000-1600113600@stage.eastangus.ca
SUMMARY:Séance régulière du conseil municipal
DESCRIPTION:Les conseillers municipaux siégeant actuellement au conseil veilleront à défendre les intérêts de leurs électeurs jusqu’en 2025. Ils ont à cœur de faire de East Angus une ville agréable et prennent ainsi part aux activités de différents comités. Les élections municipales auront lieu le dimanche 2 novembre 2025. \n 
URL:https://stage.eastangus.ca/evenement/seance-reguliere-du-conseil-municipal/2020-09-14/
LOCATION:Hôtel de ville de East Angus\, 200\, rue Saint-Jean Est\, East Angus\, Québec\, J0B 1R0\, Canada
CATEGORIES:Conseil municipal
ATTACH;FMTTYPE=image/jpeg:https://stage.eastangus.ca/wp-content/uploads/2020/10/Hotel-Ville-EastAngus.jpg
ORGANIZER;CN="Ville de East Angus":MAILTO:info@eastangus.ca
END:VEVENT
END:VCALENDAR