BEGIN:VCALENDAR
VERSION:2.0
PRODID:-//Ville East Angus - ECPv6.7.0//NONSGML v1.0//EN
CALSCALE:GREGORIAN
METHOD:PUBLISH
X-WR-CALNAME:Ville East Angus
X-ORIGINAL-URL:https://stage.eastangus.ca
X-WR-CALDESC:Événements pour Ville East Angus
REFRESH-INTERVAL;VALUE=DURATION:PT1H
X-Robots-Tag:noindex
X-PUBLISHED-TTL:PT1H
BEGIN:VTIMEZONE
TZID:America/Toronto
BEGIN:DAYLIGHT
TZOFFSETFROM:-0500
TZOFFSETTO:-0400
TZNAME:EDT
DTSTART:20230312T070000
END:DAYLIGHT
BEGIN:STANDARD
TZOFFSETFROM:-0400
TZOFFSETTO:-0500
TZNAME:EST
DTSTART:20231105T060000
END:STANDARD
BEGIN:DAYLIGHT
TZOFFSETFROM:-0500
TZOFFSETTO:-0400
TZNAME:EDT
DTSTART:20240310T070000
END:DAYLIGHT
BEGIN:STANDARD
TZOFFSETFROM:-0400
TZOFFSETTO:-0500
TZNAME:EST
DTSTART:20241103T060000
END:STANDARD
END:VTIMEZONE
BEGIN:VEVENT
DTSTART;TZID=America/Toronto:20240501T080000
DTEND;TZID=America/Toronto:20240501T163000
DTSTAMP:20260423T135530
CREATED:20231230T094022Z
LAST-MODIFIED:20231230T094022Z
UID:38419-1714550400-1714581000@stage.eastangus.ca
SUMMARY:2e versement – Paiement de taxes : 1er mai
DESCRIPTION:2e versement – Paiement de taxes : 1er mai
URL:https://stage.eastangus.ca/evenement/2e-versement-paiement-de-taxes-1er-mai/2024-05-01/
LOCATION:Hôtel de ville de East Angus\, 200\, rue Saint-Jean Est\, East Angus\, Québec\, J0B 1R0\, Canada
CATEGORIES:Taxes
ATTACH;FMTTYPE=image/jpeg:https://stage.eastangus.ca/wp-content/uploads/2020/03/Comptes-de-taxes-1024x768.jpg
ORGANIZER;CN="Ville de East Angus":MAILTO:info@eastangus.ca
END:VEVENT
BEGIN:VEVENT
DTSTART;TZID=America/Toronto:20240430T080000
DTEND;TZID=America/Toronto:20240430T163000
DTSTAMP:20260423T135530
CREATED:20231230T101758Z
LAST-MODIFIED:20231230T101758Z
UID:38472-1714464000-1714494600@stage.eastangus.ca
SUMMARY:Période d'inscription - Service d'animation estival (SAE) - Camp de jour - 15 avril au 31 mai 2024
DESCRIPTION:Inscriptions\nService d’Animation Estival et cours de natation\nDate limite pour s’inscrire : 31 mai 2024
URL:https://stage.eastangus.ca/evenement/periode-dinscription-service-danimation-estival-sae-camp-de-jour-15-avril-au-31-mai-2024/2024-04-30/
LOCATION:Hôtel de ville de East Angus\, 200\, rue Saint-Jean Est\, East Angus\, Québec\, J0B 1R0\, Canada
CATEGORIES:Camp de jour
ATTACH;FMTTYPE=image/jpeg:https://stage.eastangus.ca/wp-content/uploads/2020/12/SAE-Les-Virevents.jpg
ORGANIZER;CN="Ville de East Angus":MAILTO:info@eastangus.ca
END:VEVENT
BEGIN:VEVENT
DTSTART;TZID=America/Toronto:20240429T080000
DTEND;TZID=America/Toronto:20240429T163000
DTSTAMP:20260423T135530
CREATED:20231230T101758Z
LAST-MODIFIED:20231230T101758Z
UID:38471-1714377600-1714408200@stage.eastangus.ca
SUMMARY:Période d'inscription - Service d'animation estival (SAE) - Camp de jour - 15 avril au 31 mai 2024
DESCRIPTION:Inscriptions\nService d’Animation Estival et cours de natation\nDate limite pour s’inscrire : 31 mai 2024
URL:https://stage.eastangus.ca/evenement/periode-dinscription-service-danimation-estival-sae-camp-de-jour-15-avril-au-31-mai-2024/2024-04-29/
LOCATION:Hôtel de ville de East Angus\, 200\, rue Saint-Jean Est\, East Angus\, Québec\, J0B 1R0\, Canada
CATEGORIES:Camp de jour
ATTACH;FMTTYPE=image/jpeg:https://stage.eastangus.ca/wp-content/uploads/2020/12/SAE-Les-Virevents.jpg
ORGANIZER;CN="Ville de East Angus":MAILTO:info@eastangus.ca
END:VEVENT
BEGIN:VEVENT
DTSTART;TZID=America/Toronto:20240428T080000
DTEND;TZID=America/Toronto:20240428T163000
DTSTAMP:20260423T135530
CREATED:20231230T101758Z
LAST-MODIFIED:20231230T101758Z
UID:38470-1714291200-1714321800@stage.eastangus.ca
SUMMARY:Période d'inscription - Service d'animation estival (SAE) - Camp de jour - 15 avril au 31 mai 2024
DESCRIPTION:Inscriptions\nService d’Animation Estival et cours de natation\nDate limite pour s’inscrire : 31 mai 2024
URL:https://stage.eastangus.ca/evenement/periode-dinscription-service-danimation-estival-sae-camp-de-jour-15-avril-au-31-mai-2024/2024-04-28/
LOCATION:Hôtel de ville de East Angus\, 200\, rue Saint-Jean Est\, East Angus\, Québec\, J0B 1R0\, Canada
CATEGORIES:Camp de jour
ATTACH;FMTTYPE=image/jpeg:https://stage.eastangus.ca/wp-content/uploads/2020/12/SAE-Les-Virevents.jpg
ORGANIZER;CN="Ville de East Angus":MAILTO:info@eastangus.ca
END:VEVENT
BEGIN:VEVENT
DTSTART;TZID=America/Toronto:20240427T080000
DTEND;TZID=America/Toronto:20240427T163000
DTSTAMP:20260423T135530
CREATED:20231230T101758Z
LAST-MODIFIED:20231230T101758Z
UID:38469-1714204800-1714235400@stage.eastangus.ca
SUMMARY:Période d'inscription - Service d'animation estival (SAE) - Camp de jour - 15 avril au 31 mai 2024
DESCRIPTION:Inscriptions\nService d’Animation Estival et cours de natation\nDate limite pour s’inscrire : 31 mai 2024
URL:https://stage.eastangus.ca/evenement/periode-dinscription-service-danimation-estival-sae-camp-de-jour-15-avril-au-31-mai-2024/2024-04-27/
LOCATION:Hôtel de ville de East Angus\, 200\, rue Saint-Jean Est\, East Angus\, Québec\, J0B 1R0\, Canada
CATEGORIES:Camp de jour
ATTACH;FMTTYPE=image/jpeg:https://stage.eastangus.ca/wp-content/uploads/2020/12/SAE-Les-Virevents.jpg
ORGANIZER;CN="Ville de East Angus":MAILTO:info@eastangus.ca
END:VEVENT
BEGIN:VEVENT
DTSTART;TZID=America/Toronto:20240426T080000
DTEND;TZID=America/Toronto:20240426T163000
DTSTAMP:20260423T135530
CREATED:20231230T101758Z
LAST-MODIFIED:20231230T101758Z
UID:38468-1714118400-1714149000@stage.eastangus.ca
SUMMARY:Période d'inscription - Service d'animation estival (SAE) - Camp de jour - 15 avril au 31 mai 2024
DESCRIPTION:Inscriptions\nService d’Animation Estival et cours de natation\nDate limite pour s’inscrire : 31 mai 2024
URL:https://stage.eastangus.ca/evenement/periode-dinscription-service-danimation-estival-sae-camp-de-jour-15-avril-au-31-mai-2024/2024-04-26/
LOCATION:Hôtel de ville de East Angus\, 200\, rue Saint-Jean Est\, East Angus\, Québec\, J0B 1R0\, Canada
CATEGORIES:Camp de jour
ATTACH;FMTTYPE=image/jpeg:https://stage.eastangus.ca/wp-content/uploads/2020/12/SAE-Les-Virevents.jpg
ORGANIZER;CN="Ville de East Angus":MAILTO:info@eastangus.ca
END:VEVENT
BEGIN:VEVENT
DTSTART;TZID=America/Toronto:20240425T080000
DTEND;TZID=America/Toronto:20240425T163000
DTSTAMP:20260423T135530
CREATED:20231230T101758Z
LAST-MODIFIED:20231230T101758Z
UID:38467-1714032000-1714062600@stage.eastangus.ca
SUMMARY:Période d'inscription - Service d'animation estival (SAE) - Camp de jour - 15 avril au 31 mai 2024
DESCRIPTION:Inscriptions\nService d’Animation Estival et cours de natation\nDate limite pour s’inscrire : 31 mai 2024
URL:https://stage.eastangus.ca/evenement/periode-dinscription-service-danimation-estival-sae-camp-de-jour-15-avril-au-31-mai-2024/2024-04-25/
LOCATION:Hôtel de ville de East Angus\, 200\, rue Saint-Jean Est\, East Angus\, Québec\, J0B 1R0\, Canada
CATEGORIES:Camp de jour
ATTACH;FMTTYPE=image/jpeg:https://stage.eastangus.ca/wp-content/uploads/2020/12/SAE-Les-Virevents.jpg
ORGANIZER;CN="Ville de East Angus":MAILTO:info@eastangus.ca
END:VEVENT
BEGIN:VEVENT
DTSTART;TZID=America/Toronto:20240424T080000
DTEND;TZID=America/Toronto:20240424T163000
DTSTAMP:20260423T135530
CREATED:20231230T101758Z
LAST-MODIFIED:20231230T101758Z
UID:38466-1713945600-1713976200@stage.eastangus.ca
SUMMARY:Période d'inscription - Service d'animation estival (SAE) - Camp de jour - 15 avril au 31 mai 2024
DESCRIPTION:Inscriptions\nService d’Animation Estival et cours de natation\nDate limite pour s’inscrire : 31 mai 2024
URL:https://stage.eastangus.ca/evenement/periode-dinscription-service-danimation-estival-sae-camp-de-jour-15-avril-au-31-mai-2024/2024-04-24/
LOCATION:Hôtel de ville de East Angus\, 200\, rue Saint-Jean Est\, East Angus\, Québec\, J0B 1R0\, Canada
CATEGORIES:Camp de jour
ATTACH;FMTTYPE=image/jpeg:https://stage.eastangus.ca/wp-content/uploads/2020/12/SAE-Les-Virevents.jpg
ORGANIZER;CN="Ville de East Angus":MAILTO:info@eastangus.ca
END:VEVENT
BEGIN:VEVENT
DTSTART;TZID=America/Toronto:20240423T080000
DTEND;TZID=America/Toronto:20240423T163000
DTSTAMP:20260423T135530
CREATED:20231230T101758Z
LAST-MODIFIED:20231230T101758Z
UID:38465-1713859200-1713889800@stage.eastangus.ca
SUMMARY:Période d'inscription - Service d'animation estival (SAE) - Camp de jour - 15 avril au 31 mai 2024
DESCRIPTION:Inscriptions\nService d’Animation Estival et cours de natation\nDate limite pour s’inscrire : 31 mai 2024
URL:https://stage.eastangus.ca/evenement/periode-dinscription-service-danimation-estival-sae-camp-de-jour-15-avril-au-31-mai-2024/2024-04-23/
LOCATION:Hôtel de ville de East Angus\, 200\, rue Saint-Jean Est\, East Angus\, Québec\, J0B 1R0\, Canada
CATEGORIES:Camp de jour
ATTACH;FMTTYPE=image/jpeg:https://stage.eastangus.ca/wp-content/uploads/2020/12/SAE-Les-Virevents.jpg
ORGANIZER;CN="Ville de East Angus":MAILTO:info@eastangus.ca
END:VEVENT
BEGIN:VEVENT
DTSTART;TZID=America/Toronto:20240422T080000
DTEND;TZID=America/Toronto:20240422T163000
DTSTAMP:20260423T135530
CREATED:20231230T101758Z
LAST-MODIFIED:20231230T101758Z
UID:38464-1713772800-1713803400@stage.eastangus.ca
SUMMARY:Période d'inscription - Service d'animation estival (SAE) - Camp de jour - 15 avril au 31 mai 2024
DESCRIPTION:Inscriptions\nService d’Animation Estival et cours de natation\nDate limite pour s’inscrire : 31 mai 2024
URL:https://stage.eastangus.ca/evenement/periode-dinscription-service-danimation-estival-sae-camp-de-jour-15-avril-au-31-mai-2024/2024-04-22/
LOCATION:Hôtel de ville de East Angus\, 200\, rue Saint-Jean Est\, East Angus\, Québec\, J0B 1R0\, Canada
CATEGORIES:Camp de jour
ATTACH;FMTTYPE=image/jpeg:https://stage.eastangus.ca/wp-content/uploads/2020/12/SAE-Les-Virevents.jpg
ORGANIZER;CN="Ville de East Angus":MAILTO:info@eastangus.ca
END:VEVENT
BEGIN:VEVENT
DTSTART;TZID=America/Toronto:20240415T190000
DTEND;TZID=America/Toronto:20240415T200000
DTSTAMP:20260423T135530
CREATED:20231029T112742Z
LAST-MODIFIED:20231029T112742Z
UID:37764-1713207600-1713211200@stage.eastangus.ca
SUMMARY:Séance régulière du conseil municipal
DESCRIPTION:
URL:https://stage.eastangus.ca/evenement/seance-reguliere-du-conseil-municipal-5/
LOCATION:Hôtel de ville de East Angus\, 200\, rue Saint-Jean Est\, East Angus\, Québec\, J0B 1R0\, Canada
CATEGORIES:Conseil municipal
ATTACH;FMTTYPE=image/jpeg:https://stage.eastangus.ca/wp-content/uploads/2020/10/Hotel-Ville-EastAngus-1-e1602618173506.jpg
ORGANIZER;CN="Ville de East Angus":MAILTO:info@eastangus.ca
END:VEVENT
BEGIN:VEVENT
DTSTART;TZID=America/Toronto:20240415T080000
DTEND;TZID=America/Toronto:20240415T163000
DTSTAMP:20260423T135530
CREATED:20231230T101758Z
LAST-MODIFIED:20231230T101758Z
UID:38456-1713168000-1713198600@stage.eastangus.ca
SUMMARY:Période d'inscription - Service d'animation estival (SAE) - Camp de jour - 15 avril au 31 mai 2024
DESCRIPTION:Inscriptions\nService d’Animation Estival et cours de natation\nDate limite pour s’inscrire : 31 mai 2024
URL:https://stage.eastangus.ca/evenement/periode-dinscription-service-danimation-estival-sae-camp-de-jour-15-avril-au-31-mai-2024/2024-04-15/
LOCATION:Hôtel de ville de East Angus\, 200\, rue Saint-Jean Est\, East Angus\, Québec\, J0B 1R0\, Canada
CATEGORIES:Camp de jour
ATTACH;FMTTYPE=image/jpeg:https://stage.eastangus.ca/wp-content/uploads/2020/12/SAE-Les-Virevents.jpg
ORGANIZER;CN="Ville de East Angus":MAILTO:info@eastangus.ca
END:VEVENT
BEGIN:VEVENT
DTSTART;TZID=America/Toronto:20240329T080000
DTEND;TZID=America/Toronto:20240329T163000
DTSTAMP:20260423T135530
CREATED:20231230T094929Z
LAST-MODIFIED:20231230T094929Z
UID:38427-1711699200-1711729800@stage.eastangus.ca
SUMMARY:Fermeture des bureaux municipaux le 29 mars 2024 et le 1er avril 2024
DESCRIPTION:Fermeture des bureaux municipaux le 29 mars 2024 et le 1er avril 2024
URL:https://stage.eastangus.ca/evenement/fermeture-des-bureaux-municipaux-le-29-mars-2024-et-le-1er-avril-2024/2024-03-29/
LOCATION:Hôtel de ville de East Angus\, 200\, rue Saint-Jean Est\, East Angus\, Québec\, J0B 1R0\, Canada
CATEGORIES:Ville
ATTACH;FMTTYPE=image/jpeg:https://stage.eastangus.ca/wp-content/uploads/2020/10/Hotel-Ville-EastAngus.jpg
ORGANIZER;CN="Ville de East Angus":MAILTO:info@eastangus.ca
END:VEVENT
BEGIN:VEVENT
DTSTART;TZID=America/Toronto:20240301T080000
DTEND;TZID=America/Toronto:20240301T163000
DTSTAMP:20260423T135530
CREATED:20231230T093743Z
LAST-MODIFIED:20231230T094048Z
UID:38417-1709280000-1709310600@stage.eastangus.ca
SUMMARY:1er versement - Paiement de taxes : 1er mars
DESCRIPTION:1er versement – Paiement de taxes : 1er mars
URL:https://stage.eastangus.ca/evenement/1er-versement-paiement-de-taxes-1er-mars/2024-03-01/
LOCATION:Hôtel de ville de East Angus\, 200\, rue Saint-Jean Est\, East Angus\, Québec\, J0B 1R0\, Canada
CATEGORIES:Taxes
ATTACH;FMTTYPE=image/jpeg:https://stage.eastangus.ca/wp-content/uploads/2020/03/Comptes-de-taxes-1024x768.jpg
ORGANIZER;CN="Ville de East Angus":MAILTO:info@eastangus.ca
END:VEVENT
BEGIN:VEVENT
DTSTART;TZID=America/Toronto:20240205T190000
DTEND;TZID=America/Toronto:20240205T200000
DTSTAMP:20260423T135530
CREATED:20231029T112621Z
LAST-MODIFIED:20231029T112621Z
UID:37761-1707159600-1707163200@stage.eastangus.ca
SUMMARY:Séance régulière du conseil municipal
DESCRIPTION:
URL:https://stage.eastangus.ca/evenement/seance-reguliere-du-conseil-municipal-4/2024-02-05/
LOCATION:Hôtel de ville de East Angus\, 200\, rue Saint-Jean Est\, East Angus\, Québec\, J0B 1R0\, Canada
CATEGORIES:Conseil municipal
ATTACH;FMTTYPE=image/jpeg:https://stage.eastangus.ca/wp-content/uploads/2020/10/Hotel-Ville-EastAngus-1-e1602618173506.jpg
ORGANIZER;CN="Ville de East Angus":MAILTO:info@eastangus.ca
END:VEVENT
BEGIN:VEVENT
DTSTART;TZID=America/Toronto:20240203T080000
DTEND;TZID=America/Toronto:20240203T160000
DTSTAMP:20260423T135530
CREATED:20231230T092713Z
LAST-MODIFIED:20240129T015048Z
UID:38414-1706947200-1706976000@stage.eastangus.ca
SUMMARY:Inscriptions - Soccer Été 2024 - Dribbleurs du Haut-Saint-François
DESCRIPTION:Samedi 3 février 2024 de 9 h à 16 h\nDimanche 4 février 2024 de 9 h à 16 h\nHôtel de ville de East Angus\n200\, rue Saint-Jean Est\nEast Angus QC  J0B 1R0
URL:https://stage.eastangus.ca/evenement/inscriptions-soccer-ete-2024-dribbleurs-du-haut-saint-francois/2024-02-03/
LOCATION:Hôtel de ville de East Angus\, 200\, rue Saint-Jean Est\, East Angus\, Québec\, J0B 1R0\, Canada
CATEGORIES:Spectacles et événements
ATTACH;FMTTYPE=image/jpeg:https://stage.eastangus.ca/wp-content/uploads/2023/12/Dribbleurs-du-Haut-Saint-Francois-Inscriptions-2024.jpg
ORGANIZER;CN="Club de soccer Les Dribbleurs du Haut-Saint-Fran%C3%A7ois":MAILTO:info@dribbleursduhautstfrancois.com
END:VEVENT
BEGIN:VEVENT
DTSTART;TZID=America/Toronto:20240129T080000
DTEND;TZID=America/Toronto:20240129T170000
DTSTAMP:20260423T135530
CREATED:20231230T092105Z
LAST-MODIFIED:20240216T161521Z
UID:38394-1706515200-1706547600@stage.eastangus.ca
SUMMARY:Période d'inscriptions pour les 5 à 12 ans à la semaine de relâche en folie du 4 au 8 mars 2024
DESCRIPTION:Inscriptions – Semaine de relâche en folie\nDate limite pour s’inscrire le 26 février 2024. \nFormulaire d’inscriptions en ligne – SPLEX
URL:https://stage.eastangus.ca/evenement/periode-dinscriptions-pour-les-5-a-12-ans-a-la-semaine-de-relache-en-folie-du-4-au-8-mars-2024/2024-01-29/
LOCATION:Hôtel de ville de East Angus\, 200\, rue Saint-Jean Est\, East Angus\, Québec\, J0B 1R0\, Canada
CATEGORIES:Camp de jour
ATTACH;FMTTYPE=image/jpeg:https://stage.eastangus.ca/wp-content/uploads/2020/12/Relache-en-folie-Les-Virevents-couleur-Converti.jpg
ORGANIZER;CN="Ville de East Angus":MAILTO:info@eastangus.ca
END:VEVENT
BEGIN:VEVENT
DTSTART;TZID=America/Toronto:20240115T190000
DTEND;TZID=America/Toronto:20240115T200000
DTSTAMP:20260423T135530
CREATED:20231029T112459Z
LAST-MODIFIED:20231211T114839Z
UID:37759-1705345200-1705348800@stage.eastangus.ca
SUMMARY:Séance régulière du conseil municipal
DESCRIPTION:
URL:https://stage.eastangus.ca/evenement/seance-reguliere-du-conseil-municipal-3/
LOCATION:Hôtel de ville de East Angus\, 200\, rue Saint-Jean Est\, East Angus\, Québec\, J0B 1R0\, Canada
CATEGORIES:Conseil municipal
ATTACH;FMTTYPE=image/jpeg:https://stage.eastangus.ca/wp-content/uploads/2020/10/Hotel-Ville-EastAngus-1-e1602618173506.jpg
ORGANIZER;CN="Ville de East Angus":MAILTO:info@eastangus.ca
END:VEVENT
BEGIN:VEVENT
DTSTART;TZID=America/Toronto:20240101T080000
DTEND;TZID=America/Toronto:20240101T163000
DTSTAMP:20260423T135530
CREATED:20231220T024931Z
LAST-MODIFIED:20231220T024931Z
UID:38226-1704096000-1704126600@stage.eastangus.ca
SUMMARY:Fermeture des bureaux municipaux jusqu'au 3 janvier 2024 inclusivement
DESCRIPTION:
URL:https://stage.eastangus.ca/evenement/fermeture-des-bureaux-municipaux-jusquau-3-janvier-2024-inclusivement/2024-01-01/
LOCATION:Hôtel de ville de East Angus\, 200\, rue Saint-Jean Est\, East Angus\, Québec\, J0B 1R0\, Canada
CATEGORIES:Ville
ATTACH;FMTTYPE=image/jpeg:https://stage.eastangus.ca/wp-content/uploads/2020/10/Hotel-Ville-EastAngus-1-e1602618173506.jpg
ORGANIZER;CN="Ville de East Angus":MAILTO:info@eastangus.ca
END:VEVENT
BEGIN:VEVENT
DTSTART;TZID=America/Toronto:20231222T080000
DTEND;TZID=America/Toronto:20231222T160000
DTSTAMP:20260423T135530
CREATED:20221012T014103Z
LAST-MODIFIED:20231222T103146Z
UID:34635-1703232000-1703260800@stage.eastangus.ca
SUMMARY:22 décembre à 11 h au 31 décembre : Fermeture des bureaux (fériés)
DESCRIPTION:22 décembre à 11 h 30 au 31 décembre \nFermeture des bureaux (fériés)
URL:https://stage.eastangus.ca/evenement/22-decembre-a-11-h-30-au-31-decembre-fermeture-des-bureaux-feries/2023-12-22/
LOCATION:Hôtel de ville de East Angus\, 200\, rue Saint-Jean Est\, East Angus\, Québec\, J0B 1R0\, Canada
CATEGORIES:Ville
ATTACH;FMTTYPE=image/jpeg:https://stage.eastangus.ca/wp-content/uploads/2020/03/east-angus-noel.jpg
ORGANIZER;CN="Ville de East Angus":MAILTO:info@eastangus.ca
END:VEVENT
BEGIN:VEVENT
DTSTART;TZID=America/Toronto:20230909T100000
DTEND;TZID=America/Toronto:20230909T160000
DTSTAMP:20260423T135530
CREATED:20230217T024956Z
LAST-MODIFIED:20230217T024956Z
UID:35747-1694253600-1694275200@stage.eastangus.ca
SUMMARY:Journées du patrimoine religieux (visites) – Centenaire de l’Église Saint-Louis-de-France
DESCRIPTION:
URL:https://stage.eastangus.ca/evenement/journees-du-patrimoine-religieux-visites-centenaire-de-leglise-saint-louis-de-france/2023-09-09/
LOCATION:Hôtel de ville de East Angus\, 200\, rue Saint-Jean Est\, East Angus\, Québec\, J0B 1R0\, Canada
CATEGORIES:Spectacles et événements
ATTACH;FMTTYPE=image/jpeg:https://stage.eastangus.ca/wp-content/uploads/2023/02/Eglise.jpg
ORGANIZER;CN="Ville de East Angus":MAILTO:info@eastangus.ca
END:VEVENT
BEGIN:VEVENT
DTSTART;TZID=America/Toronto:20230731T080000
DTEND;TZID=America/Toronto:20230731T160000
DTSTAMP:20260423T135530
CREATED:20221012T010944Z
LAST-MODIFIED:20221012T010944Z
UID:34615-1690790400-1690819200@stage.eastangus.ca
SUMMARY:31 juillet au 4 août : Fermeture de l'Hôtel de ville
DESCRIPTION:31 juillet au 4 août\nFermeture de l’Hôtel de ville
URL:https://stage.eastangus.ca/evenement/31-juillet-au-4-aout-fermeture-de-lhotel-de-ville/2023-07-31/
LOCATION:Hôtel de ville de East Angus\, 200\, rue Saint-Jean Est\, East Angus\, Québec\, J0B 1R0\, Canada
CATEGORIES:Ville
ATTACH;FMTTYPE=image/jpeg:https://stage.eastangus.ca/wp-content/uploads/2021/02/Hotel-de-ville.jpg
ORGANIZER;CN="Ville de East Angus":MAILTO:info@eastangus.ca
END:VEVENT
BEGIN:VEVENT
DTSTART;TZID=America/Toronto:20230607T183000
DTEND;TZID=America/Toronto:20230607T200000
DTSTAMP:20260423T135530
CREATED:20230602T193753Z
LAST-MODIFIED:20230602T193753Z
UID:36519-1686162600-1686168000@stage.eastangus.ca
SUMMARY:Assemblée générale annuelle de Moisson Haut-Saint-François
DESCRIPTION:Invitation à l’Assemblée générale annuelle (AGA) de Moisson Haut-Saint-François ce mercredi 7 juin à 18 h 30 à l’Hôtel de ville de East Angus!
URL:https://stage.eastangus.ca/evenement/assemblee-generale-annuelle-de-moisson-haut-saint-francois/
LOCATION:Hôtel de ville de East Angus\, 200\, rue Saint-Jean Est\, East Angus\, Québec\, J0B 1R0\, Canada
CATEGORIES:Spectacles et événements
ATTACH;FMTTYPE=image/jpeg:https://stage.eastangus.ca/wp-content/uploads/2023/06/FB_IMG_1685707987235.jpg
END:VEVENT
BEGIN:VEVENT
DTSTART;TZID=America/Toronto:20230430T080000
DTEND;TZID=America/Toronto:20230430T160000
DTSTAMP:20260423T135530
CREATED:20221012T001226Z
LAST-MODIFIED:20221012T001226Z
UID:34521-1682841600-1682870400@stage.eastangus.ca
SUMMARY:30 avril : Date limite pour enlever les abris temporaires et les treillis textile
DESCRIPTION:30 avril \nDate limite pour enlever les abris temporaires et les treillis textile
URL:https://stage.eastangus.ca/evenement/30-avril-date-limite-pour-enlever-les-abris-temporaires-et-les-treillis-textile/
LOCATION:Hôtel de ville de East Angus\, 200\, rue Saint-Jean Est\, East Angus\, Québec\, J0B 1R0\, Canada
CATEGORIES:Ville
ATTACH;FMTTYPE=image/jpeg:https://stage.eastangus.ca/wp-content/uploads/2020/03/abri-300x225.jpg
ORGANIZER;CN="Ville de East Angus":MAILTO:info@eastangus.ca
END:VEVENT
BEGIN:VEVENT
DTSTART;TZID=America/Toronto:20230417T080000
DTEND;TZID=America/Toronto:20230417T160000
DTSTAMP:20260423T135530
CREATED:20221012T000919Z
LAST-MODIFIED:20221012T000919Z
UID:34473-1681718400-1681747200@stage.eastangus.ca
SUMMARY:Inscription Service d’Animation Estival et cours de natation
DESCRIPTION:17 avril jusqu’au 2 juin \nInscription \nService d’Animation Estival et cours de natation \nDate limite pour s’inscrire : 2 juin \n(par internet au www.eastangus.ca ou à l’Hôtel de ville de 8 h à 16 h)
URL:https://stage.eastangus.ca/evenement/inscription-service-danimation-estival-et-cours-de-natation-2/2023-04-17/
LOCATION:Hôtel de ville de East Angus\, 200\, rue Saint-Jean Est\, East Angus\, Québec\, J0B 1R0\, Canada
CATEGORIES:Camp de jour
ATTACH;FMTTYPE=image/jpeg:https://stage.eastangus.ca/wp-content/uploads/2020/12/SAE-Les-Virevents.jpg
ORGANIZER;CN="Ville de East Angus":MAILTO:info@eastangus.ca
END:VEVENT
BEGIN:VEVENT
DTSTART;TZID=America/Toronto:20230301T080000
DTEND;TZID=America/Toronto:20230301T160000
DTSTAMP:20260423T135530
CREATED:20221012T001705Z
LAST-MODIFIED:20221012T001705Z
UID:34523-1677657600-1677686400@stage.eastangus.ca
SUMMARY:Paiement de taxes municipales
DESCRIPTION:
URL:https://stage.eastangus.ca/evenement/paiement-de-taxes-municipales/2023-03-01/
LOCATION:Hôtel de ville de East Angus\, 200\, rue Saint-Jean Est\, East Angus\, Québec\, J0B 1R0\, Canada
CATEGORIES:Taxes
ATTACH;FMTTYPE=image/jpeg:https://stage.eastangus.ca/wp-content/uploads/2022/01/Compte-de-taxes-scaled.jpg
ORGANIZER;CN="Ville de East Angus":MAILTO:info@eastangus.ca
END:VEVENT
BEGIN:VEVENT
DTSTART;TZID=America/Toronto:20230211T090000
DTEND;TZID=America/Toronto:20230211T160000
DTSTAMP:20260423T135530
CREATED:20221011T234507Z
LAST-MODIFIED:20230124T114750Z
UID:34460-1676106000-1676131200@stage.eastangus.ca
SUMMARY:Inscription – Soccer (Dribbleurs du Haut-Saint-François)
DESCRIPTION:11-12 février \nInscription – Soccer (Dribbleurs du Haut-Saint-François) \nSamedi 11 février de 9 h à 16 h\nDimanche 12 février de 9 h à 16 h \nHôtel de ville
URL:https://stage.eastangus.ca/evenement/inscription-soccer-dribbleurs-du-haut-saint-francois-2/2023-02-11/
LOCATION:Hôtel de ville de East Angus\, 200\, rue Saint-Jean Est\, East Angus\, Québec\, J0B 1R0\, Canada
CATEGORIES:Spectacles et événements
ATTACH;FMTTYPE=image/jpeg:https://stage.eastangus.ca/wp-content/uploads/2021/02/Logo-Dribbleurs-du-HSF.jpg
ORGANIZER;CN="Club de soccer Les Dribbleurs du Haut-Saint-Fran%C3%A7ois":MAILTO:info@dribbleursduhautstfrancois.com
END:VEVENT
BEGIN:VEVENT
DTSTART;TZID=America/Toronto:20230201T080000
DTEND;TZID=America/Toronto:20230201T160000
DTSTAMP:20260423T135530
CREATED:20221011T233754Z
LAST-MODIFIED:20221011T234152Z
UID:34296-1675238400-1675267200@stage.eastangus.ca
SUMMARY:Étudiants : Il est temps de postuler avant le 22 février 2023 pour un emploi d’été à la Ville (bureau d’accueil touristique\, camp de jour\, sauveteurs)
DESCRIPTION:Étudiants : Il est temps de postuler avant le 22 février 2023 pour un emploi d’été à la Ville (bureau d’accueil touristique\, camp de jour\, sauveteurs)
URL:https://stage.eastangus.ca/evenement/etudiants-il-est-temps-de-postuler-avant-le-22-fevrier-2023-pour-un-emploi-dete-a-la-ville-bureau-daccueil-touristique-camp-de-jour-sauveteurs/2023-02-01/
LOCATION:Hôtel de ville de East Angus\, 200\, rue Saint-Jean Est\, East Angus\, Québec\, J0B 1R0\, Canada
CATEGORIES:Ville
ORGANIZER;CN="Ville de East Angus":MAILTO:info@eastangus.ca
END:VEVENT
BEGIN:VEVENT
DTSTART;TZID=America/Toronto:20230130T080000
DTEND;TZID=America/Toronto:20230130T160000
DTSTAMP:20260423T135530
CREATED:20221011T233424Z
LAST-MODIFIED:20221011T233424Z
UID:34274-1675065600-1675094400@stage.eastangus.ca
SUMMARY:À compter du 30 janvier : Inscription – Semaine de relâche en folie
DESCRIPTION:À compter du 30 janvier \nInscription – Semaine de relâche en folie \nDate limite pour s’inscrire : 18 février
URL:https://stage.eastangus.ca/evenement/a-compter-du-30-janvier-inscription-semaine-de-relache-en-folie/2023-01-30/
LOCATION:Hôtel de ville de East Angus\, 200\, rue Saint-Jean Est\, East Angus\, Québec\, J0B 1R0\, Canada
CATEGORIES:Camp de jour
ATTACH;FMTTYPE=image/jpeg:https://stage.eastangus.ca/wp-content/uploads/2020/12/Relache-en-folie-Les-Virevents-couleur-Converti.jpg
ORGANIZER;CN="Ville de East Angus":MAILTO:info@eastangus.ca
END:VEVENT
BEGIN:VEVENT
DTSTART;TZID=America/Toronto:20230109T190000
DTEND;TZID=America/Toronto:20230109T200000
DTSTAMP:20260423T135530
CREATED:20221010T021847Z
LAST-MODIFIED:20221010T022405Z
UID:34234-1673290800-1673294400@stage.eastangus.ca
SUMMARY:Séance régulière du conseil municipal
DESCRIPTION:
URL:https://stage.eastangus.ca/evenement/seance-reguliere-du-conseil-municipal-2/2023-01-09/
LOCATION:Hôtel de ville de East Angus\, 200\, rue Saint-Jean Est\, East Angus\, Québec\, J0B 1R0\, Canada
CATEGORIES:Conseil municipal
ATTACH;FMTTYPE=image/jpeg:https://stage.eastangus.ca/wp-content/uploads/2020/10/Hotel-Ville-EastAngus.jpg
ORGANIZER;CN="Ville de East Angus":MAILTO:info@eastangus.ca
END:VEVENT
END:VCALENDAR